BEGIN:VCALENDAR
VERSION:2.0
BEGIN:VEVENT
SUMMARY:Jakou hrají roli v EU národní parlamenty?
DESCRIPTION:Jaký je vztah národních parlamentů a EU? Do jaké míry mohou národní parlamenty rozhodování v EU ovlivňovat?
DTSTART:20150125T133000Z
DTEND:20150125T150000Z
END:VEVENT
END:VCALENDAR
