BEGIN:VCALENDAR
VERSION:2.0
BEGIN:VEVENT
SUMMARY:Seminar: How to understand the program of the new European Commission?
DESCRIPTION:The Representation of the European Commission and European Parliament Information Office in cooperation with EUROPEUM Institute for European Policy organize another one of the regular Wednesday's seminars.
DTSTART:20141021T095500Z
DTEND:20141021T112500Z
END:VEVENT
END:VCALENDAR
