BEGIN:VCALENDAR
VERSION:2.0
BEGIN:VEVENT
SUMMARY:Expert workshop: Europe 2020 seen from the V4 perspective
DESCRIPTION:Seminar on how is Europe 2020 seen from V4 perspective.
DTSTART:20140924T133500Z
DTEND:20140924T150500Z
END:VEVENT
END:VCALENDAR
