BEGIN:VCALENDAR
VERSION:2.0
BEGIN:VEVENT
SUMMARY:An active and comprehensive Czech European policy - mutual perception of the Czech Republic and the EU
DESCRIPTION:Please accept our invitation to a panel discussion held on the occasion of the launch of EUROPEUM Institute for European Policy's office in Brussels.
DTSTART:20160324T145500Z
DTEND:20160324T162500Z
END:VEVENT
END:VCALENDAR
