BEGIN:VCALENDAR
VERSION:2.0
BEGIN:VEVENT
SUMMARY:Seminar: Czech media and the public interest in the EU - how much do we actually care?
DESCRIPTION:The Representation of the European Commission and the Information Office of the European Parliament in the Czech Republic in co-operation with EUROPEUM Institute for European Policy are organizing a seminar for broad public.
DTSTART:20140519T112000Z
DTEND:20140519T125000Z
END:VEVENT
END:VCALENDAR
