BEGIN:VCALENDAR
VERSION:2.0
BEGIN:VEVENT
SUMMARY:Seminář: Jaké jsou šance euroskeptických stran dostat do Evropského parlamentu – bude to mít vliv na další směřování EU?
DESCRIPTION:Přijměte naše pozvání na další seminář, tentokrát na téma euroskepticismu.
DTSTART:20140505T125500Z
DTEND:20140505T142500Z
END:VEVENT
END:VCALENDAR
