BEGIN:VCALENDAR
VERSION:2.0
BEGIN:VEVENT
SUMMARY:Café Evropa: Migrující literatura
DESCRIPTION:Přijměte pozvání na další speciální díl z cyklu debat Café Evropa. Hosté Trang Do Thu, Jorge Zuniga a Jindřich Mann budou debatovat na téma "Migrující literatura", moderovat bude David Vaughan.
DTSTART:20160506T133500Z
DTEND:20160506T150500Z
END:VEVENT
END:VCALENDAR
