BEGIN:VCALENDAR
VERSION:2.0
BEGIN:VEVENT
SUMMARY:Europe 2020 strategy with the focus on the growth based on research and innovation
DESCRIPTION:A seminar on the Europe 2020 strategy took place in Brno.
DTSTART:20140325T121500Z
DTEND:20140325T134500Z
END:VEVENT
END:VCALENDAR
