BEGIN:VCALENDAR
VERSION:2.0
BEGIN:VEVENT
SUMMARY:Café Evropa: Evropa na křižovatce – která z cest bude ta naše?
DESCRIPTION:Přijměte pozvání na čtrnáctou debatu z cyklu Café Evropa. Hosté Petr Mach a Luděk Niedermayer budou debatovat na téma "Evropa na křižovatce – která z cest bude ta naše?"
DTSTART:20170406T111000Z
DTEND:20170406T124000Z
END:VEVENT
END:VCALENDAR
