BEGIN:VCALENDAR
VERSION:2.0
BEGIN:VEVENT
SUMMARY:Festival demokracie v Knihovně Václava Havla: Migrační krize a západní Balkán - stabilita vs. demokracie.
DESCRIPTION:Přijměte pozvání na událost v rámci Festivalu Demokracie v Knihovně Václava Havla na téma "Migrační krize a západní Balkán: stabilita vs. demokracie. Pozvání přijali Michal Vít, Zora Hesová a Zuzana Lenhartová.
DTSTART:20170921T130500Z
DTEND:20170921T143500Z
END:VEVENT
END:VCALENDAR
