BEGIN:VCALENDAR
VERSION:2.0
BEGIN:VEVENT
SUMMARY:POZVÁNKA: Quo Vadis Eastern Partnership? A Retrospective Look Into Future
DESCRIPTION:Rádi bychom vás pozvali na konferenci s názvem ''Quo Vadis Eastern Partnership? A Retrospective Look Into Future'', která se uskuteční 23. 11. 2017 v Bruselu.
DTSTART:20171107T140500Z
DTEND:20171107T153500Z
END:VEVENT
END:VCALENDAR
