BEGIN:VCALENDAR
VERSION:2.0
BEGIN:VEVENT
SUMMARY:INVITATION: The EU after a year of crucial elections: Which new chances and challenges?
DESCRIPTION:Let us invite you to the the conference called The EU after a year of crucial elections: Which new chances and challenges? which will take place on November 21 2017
DTSTART:20171107T153000Z
DTEND:20171107T170000Z
END:VEVENT
END:VCALENDAR
