BEGIN:VCALENDAR
VERSION:2.0
BEGIN:VEVENT
SUMMARY:POZVÁNKA: Hranice a limity státní suverenity v evropském prostoru
DESCRIPTION:Francouzský institut v Praze ve spolupráci se naším think-tankem pořádá první debatu z letošní série debat v rámci cyklu "1968-2018 Paříž - Praha: Bouřící se Evropa".
DTSTART:20180118T111500Z
DTEND:20180118T124500Z
END:VEVENT
END:VCALENDAR
