BEGIN:VCALENDAR
VERSION:2.0
BEGIN:VEVENT
SUMMARY:REPORT: PESCO: What role for the V4 in developing European Strategic Autonomy
DESCRIPTION:Report z konference s názvem ''PESCO: What role for the V4 in developing European Strategic Autonomy'', která se uskutečnila 9. 4. 2018 v Bruselu, je nyní k dispozici.
DTSTART:20180418T123500Z
DTEND:20180418T140500Z
END:VEVENT
END:VCALENDAR
