BEGIN:VCALENDAR
VERSION:2.0
BEGIN:VEVENT
SUMMARY:The rise and role of regional cooperation in Central and South Eastern Europe
DESCRIPTION:Our Zuzana Stuchlíková represented our institute at a conference held in Budapest and explained the driving factors of the Czech foreign policy.
DTSTART:20180502T133000Z
DTEND:20180502T150000Z
END:VEVENT
END:VCALENDAR
