BEGIN:VCALENDAR
VERSION:2.0
BEGIN:VEVENT
SUMMARY:POZVÁNKA: EU± // Brexit
DESCRIPTION:Přijměte naše srdečné pozvání na diskusi EU± // Brexit, která se uskuteční v úterý 15. 5. 2018 od 19.00 ve Skautském institutu.
DTSTART:20180503T122500Z
DTEND:20180503T135500Z
END:VEVENT
END:VCALENDAR
