BEGIN:VCALENDAR
VERSION:2.0
BEGIN:VEVENT
SUMMARY:INVITATION: Prague Climate Talks: Sustainable consumerism – the way forward?
DESCRIPTION:We are proud to present the sixth event from our project Prague Climate Talks, which will take place on September 27, 2018 at 16:00 in the European House in Prague.
DTSTART:20180913T123000Z
DTEND:20180913T140000Z
END:VEVENT
END:VCALENDAR
