BEGIN:VCALENDAR
VERSION:2.0
BEGIN:VEVENT
SUMMARY:REPORT: The Roots of Euroscepticism throughout Europe (Jubel Festival)
DESCRIPTION:Report z konference s názvem ''The Roots of Euroscepticism throughout Europe,'' která se uskutečnila 22. září 2018 v Bruselu, je nyní k dispozici.
DTSTART:20181010T123500Z
DTEND:20181010T140500Z
END:VEVENT
END:VCALENDAR
