BEGIN:VCALENDAR
VERSION:2.0
BEGIN:VEVENT
SUMMARY:POZVÁNKA: Regionální spolupráce a rozhodovací proces v rámci EU: dopad Beneluxu, Severské rady a V4
DESCRIPTION:Dovolujeme si Vás pozvat na seminář o regionální spolupráci v rámci EU. Seminář se uskuteční v pátek 19. října od 12:30 do 15:00 (Centre for European Policy Studies, 1 Place du Congrès, 1000 Brusel).
DTSTART:20181011T092500Z
DTEND:20181011T105500Z
END:VEVENT
END:VCALENDAR
