BEGIN:VCALENDAR
VERSION:2.0
BEGIN:VEVENT
SUMMARY:POZVÁNKA: Proč mají Slováci rádi euro a Češi ne? [Liberec]
DESCRIPTION:Přijměte naše srdečné pozvání na debatu o společné měně, která se uskuteční 6. 11. od 10:30 do 12:00 v Liberci.
DTSTART:20181023T134000Z
DTEND:20181023T151000Z
END:VEVENT
END:VCALENDAR
