BEGIN:VCALENDAR
VERSION:2.0
BEGIN:VEVENT
SUMMARY:REPORT: Regional Cooperation and EU decision-making: impact of the Benelux, Nordic Council and V4
DESCRIPTION:The report from the debate ''Regional Cooperation and EU decision-making: impact of the Benelux, Nordic Council and V4,'' which took place on October 19, 2018 in Brussels, is now available.
DTSTART:20181025T134500Z
DTEND:20181025T151500Z
END:VEVENT
END:VCALENDAR
