BEGIN:VCALENDAR
VERSION:2.0
BEGIN:VEVENT
SUMMARY:INVITATION: A New Deal for Emerging Technologies
DESCRIPTION:We would like to cordially invite you to a working breakfast titled: ''A New Deal for Emerging Technologies: Where will the money come from in the new MFF?''
DTSTART:20181204T125500Z
DTEND:20181204T142500Z
END:VEVENT
END:VCALENDAR
