BEGIN:VCALENDAR
VERSION:2.0
BEGIN:VEVENT
SUMMARY:REPORT: Path to Euro - Future of the Non-Eurozone Countries
DESCRIPTION:Report z debaty s názvem ''Path to Euro - Future of the Non-Eurozone Countries,'' která se uskutečnila 5. prosince 2018 v Bruselu, je nyní k dispozici.
DTSTART:20181212T154500Z
DTEND:20181212T171500Z
END:VEVENT
END:VCALENDAR
