BEGIN:VCALENDAR
VERSION:2.0
BEGIN:VEVENT
SUMMARY:Café Evropa in the regions – Písek: How will Brexit affect the Czech Republic and the EU?
DESCRIPTION:Accept our sincere invitation to the public debate that is part of the series Café Evropa in the regions. This time in Písek on February 11th.
DTSTART:20190131T102000Z
DTEND:20190131T115000Z
END:VEVENT
END:VCALENDAR
