BEGIN:VCALENDAR
VERSION:2.0
BEGIN:VEVENT
SUMMARY:EU as a leader in AI excellence
DESCRIPTION:V úterý 7. května 2019 proběhne v Bruselu ve spolupráci se Stálým zastoupením České republiky při Evropské unii konference na téma "Evropská unie jako lídr v oblasti umělé inteligence". Akce proběhne pod záštitou Ministerstva průmyslu a obchodu ČR.
DTSTART:20190502T140000Z
DTEND:20190502T153000Z
END:VEVENT
END:VCALENDAR
