BEGIN:VCALENDAR
VERSION:2.0
BEGIN:VEVENT
SUMMARY:REPORT: Overcoming Dividing Lines in Europe (Jubel Festival)
DESCRIPTION:V sobotu 7. září jsme v rámci evropského festivalu demokracie Jubel uspořádali v Bruselu workshop „Overcoming Dividing Lines in Europe“, kde jsme diskutovali o tom, co rozděluje Evropu a Evropany. Výstup z tohoto workshopu bude součástí manifestu festivalu, který obdrží instituce Evropské unie. Nyní přinášíme náš report z akce.
DTSTART:20190910T144500Z
DTEND:20190910T161500Z
END:VEVENT
END:VCALENDAR
