BEGIN:VCALENDAR
VERSION:2.0
BEGIN:VEVENT
SUMMARY:INVITATION: EU± // Countries of Central Europe and the rule of law
DESCRIPTION:The European Union was founded on the principles of freedom, equality and democracy - these are the values within which the rule of law plays an important role. Recently, in relation to the situation in Poland and Hungary, there has been a debate on the extent to which the EU should protect these fundamental values and whether it has the right to comment on them at all.
DTSTART:20191024T101000Z
DTEND:20191024T114000Z
END:VEVENT
END:VCALENDAR
