BEGIN:VCALENDAR
VERSION:2.0
BEGIN:VEVENT
SUMMARY:POZVÁNKA: Český hlas v EU - Nakolik je Česká republika úspěšná v prosazování svých zájmů v EU?
DESCRIPTION:Institut pro evropskou politiku EUROPEUM si Vás srdečně dovoluje pozvat na debatní večer s tématem hlasu České republiky v rámci Evropské unie. Akce se uskuteční v pondělí 18. listopadu od 18 hodin v Evropském domě (Jungmannova 24, Praha 1).
DTSTART:20191111T150500Z
DTEND:20191111T163500Z
END:VEVENT
END:VCALENDAR
