BEGIN:VCALENDAR
VERSION:2.0
BEGIN:VEVENT
SUMMARY:INVITATION: The Path to Peace: Ending the Conflict in Ukraine
DESCRIPTION:EUROPEUM Institute for European Policy cordially invites you to a documentary screening and a debate. The event will take place on November 26 from 2 PM in European House (Jungmannova 24, Praha 1).
DTSTART:20191113T142500Z
DTEND:20191113T155500Z
END:VEVENT
END:VCALENDAR
