BEGIN:VCALENDAR
VERSION:2.0
BEGIN:VEVENT
SUMMARY:INVITATION: What EU do we want in 2025?
DESCRIPTION:EUROPEUM Institute for European Policy invites you to a discussion on "What EU do we want in 2025? The future of cohesion policy", which will take place on Wednesday, 11 December 2019, from 18:00 to 19:30 at the European House (Jungmannova 24).
DTSTART:20191205T092000Z
DTEND:20191205T105000Z
END:VEVENT
END:VCALENDAR
