BEGIN:VCALENDAR
VERSION:2.0
BEGIN:VEVENT
SUMMARY:POZVÁNKA: Café Evropa v regionech - Hradec Králové: Blízký východ a Evropská unie - dokážeme přispět k uklidnění napjaté situace v regionu?
DESCRIPTION:Institut EUROPEUM společně s Evropskou komisí v ČR, Kanceláří Evropského parlamentu, Eurocentrem Hradec Králové a Europe Direct Hradec Králové Vás srdečně zve na další debatu ze série Café Evropa v regionech. S tématem "Blízký východ a Evropská unie - dokážeme přispět k uklidnění napjaté situace v regionu?" se tentokrát podíváme do Hradce Králové už ve čtvrtek 20. února.
DTSTART:20200206T091000Z
DTEND:20200206T104000Z
END:VEVENT
END:VCALENDAR
