BEGIN:VCALENDAR
VERSION:2.0
BEGIN:VEVENT
SUMMARY:POZVÁNKA: Café Evropa v regionech – Mladá Boleslav: Brexit – jak se dotkne našich životů, vzájemného obchodu a vztahů?
DESCRIPTION:Institut pro evropskou politiku EUROPEUM společně s Evropskou komisí v ČR, Kanceláří Evropského parlamentu v ČR, Knihovnou města Mladá Boleslav a Europe Direct Vás srdečně zve na další debatu ze série Café Evropa v regionech. S tématem "Brexit – jak se dotkne našich životů a vzájemného obchodu? Jaké budou vztahy EU a Velké Británie?" se tentokrát podíváme do Mladé Boleslavi už v pondělí 2. března.
DTSTART:20200218T103000Z
DTEND:20200218T120000Z
END:VEVENT
END:VCALENDAR
