BEGIN:VCALENDAR
VERSION:2.0
BEGIN:VEVENT
SUMMARY:INVITATION: Café Evropa online: Czech science fighting the coronavirus– how does the financing works and how does the EU help?
DESCRIPTION:EUROPEUM Institute for European Policy invites you to the next debate in the Café Evropa series. Like the previous debate it will be broadcasted online because of anti-coronavirus measures. The debate will focus on the fight of Czech science against the coronavirus. The debate will take place on Wednesday, 13 May.
DTSTART:20200504T095300Z
DTEND:20200504T112300Z
END:VEVENT
END:VCALENDAR
