BEGIN:VCALENDAR
VERSION:2.0
BEGIN:VEVENT
SUMMARY:POZVÁNKA: Tvrdý restart pro vztahy EU a Afriky.  Perspektiva států Visegradu na dobu post-pandemickou
DESCRIPTION:Institut pro evropskou politiku EUROPEUM Vás srdečně zve na debatu týkající se vztahů EU a Afriky. Debata proběhne online prostřednictvím platformy Zoom a bude vysílána na naší Facebookové stránce. Debata se uskuteční v úterý 26. května od 17:00.
DTSTART:20200514T115000Z
DTEND:20200514T132000Z
END:VEVENT
END:VCALENDAR
