BEGIN:VCALENDAR
VERSION:2.0
BEGIN:VEVENT
SUMMARY:POZVÁNKA: COVID-19 jako příležitost na vybudování zelenějších ekonomik
DESCRIPTION:Institut pro evropskou politiku EUROPEUM ve spolupráci s Global Shapers Prague Vás zve na debatu na téma: "Jak přebudovat světové ekonomiky tak, aby se najednou vyřešila klimatická a koronavirová krize?" Debata se uskuteční  28. května 2020 od 14:00 a bude vysílána na Facebookové stránce EUROPEUM a Global Shapers Prague.
DTSTART:20200521T075400Z
DTEND:20200521T092400Z
END:VEVENT
END:VCALENDAR
