BEGIN:VCALENDAR
VERSION:2.0
BEGIN:VEVENT
SUMMARY:REPORT: Prague Climate Talks: Climate change: Can It Unite a Divided Society?
DESCRIPTION:On 17th September 2020 we organized this year's third online debate from the Climate Talks cycle. The topic was the social dimensions of climate policies.
DTSTART:20201005T115500Z
DTEND:20201005T132500Z
END:VEVENT
END:VCALENDAR
