BEGIN:VCALENDAR
VERSION:2.0
BEGIN:VEVENT
SUMMARY:POZVÁNKA: Prague Climate Talks: Financování přechodu na nízkouhlíkovou ekonomiku
DESCRIPTION:Rádi bychom Vás pozvali na debatu Prague Climate Talks, kterou organizuje EUROPEUM Institute for European Policy spolu s Heinrich-Böll-Stiftung Prague a pod záštitou OSN Česká republika. Debata se uskuteční v pondělí 26. října od 16:00 do 17:30 a tématem bude přechod na nízkouhlíkovou ekonomiku a jeho financování.
DTSTART:20201026T124000Z
DTEND:20201026T141000Z
END:VEVENT
END:VCALENDAR
