BEGIN:VCALENDAR
VERSION:2.0
BEGIN:VEVENT
SUMMARY:INVITATION: What EU Do We Want In 2025 – Changing the Institutional Framework
DESCRIPTION:We invite you to a debate from the series What EU Do We Want In 2025, this time on changing the institutional framework of the European Union. It will take place on November 5 at 5:30 PM online.
DTSTART:20201105T163000Z
DTEND:20201105T180000Z
END:VEVENT
END:VCALENDAR
