BEGIN:VCALENDAR
VERSION:2.0
BEGIN:VEVENT
SUMMARY:POZVÁNKA: Hodnocení spolupráce EU-NATO, české zapojení a vyhlídky na zlepšení s novou americkou administrativou
DESCRIPTION:Srdečně Vás zveme na debatu "Hodnocení spolupráce EU-NATO, české zapojení a vyhlídky na zlepšení s novou americkou administrativou", která se uskuteční ve čtvrtek 10. prosince v 17:30 online na našem facebooku.
DTSTART:20201207T131500Z
DTEND:20201207T144500Z
END:VEVENT
END:VCALENDAR
