BEGIN:VCALENDAR
VERSION:2.0
BEGIN:VEVENT
SUMMARY:REPORT: A Europe Fit for Digital Age - Challenges regarding the development of 5G Networks in Europe and in V4
DESCRIPTION:On 17 December EUROPEUM held a livestream discussion covering and discussing digitalization. Digitalization is often regarded as one of the crucial aspects of a prosperous future of Europe. It is clear that we are all dependent on advanced technologies, especially in times of the coronavirus pandemic. But what role does 5G network development play in the campaign for digital sovereignty of Europe?
DTSTART:20201218T142000Z
DTEND:20201218T155000Z
END:VEVENT
END:VCALENDAR
