BEGIN:VCALENDAR
VERSION:2.0
BEGIN:VEVENT
SUMMARY:REPORT: Portugalské a české předsednictví v Radě EU
DESCRIPTION:15. prosince proběhla poslední online debata roku 2020 ze série EU± pořádaná Institutem pro evropskou politiku EUROPEUM a Katedrou evropských studií FSV UK. Na téma „Portugalské a české předsednictví v Radě EU“ debatovali velvyslanec Portugalska v ČR Luís de Almeida Sampaio, naše výzkumná pracovnice Zuzana Stuchlíková a bývalá stálá zástupkyně při EU Milena Vicenová. Debata probíhala v anglickém jazyce a moderoval ji Tomáš Weiss, výzkumník a vedoucí Katedry evropských studí FSV UK.
DTSTART:20201215T170000Z
DTEND:20201215T183000Z
END:VEVENT
END:VCALENDAR
