BEGIN:VCALENDAR
VERSION:2.0
BEGIN:VEVENT
SUMMARY:POZVÁNKA: Současné výzvy a příležitosti pro evropskou bezpečnost, NATO a obranu v transatlantickém partnerství; Vztah s Ruskem a Čínou
DESCRIPTION:Přijměte vřelé pozvání na konferenci na téma obrany, bezpečnosti a kooperace členských států v postpandemické krizi. Debatu organizuje Institut pro evropskou politiku EUROPEUM a Institut pro politiku a společnost, Portugalská ambasáda v České republice a CEVRO Institut.
DTSTART:20210317T100000Z
DTEND:20210317T113000Z
END:VEVENT
END:VCALENDAR
