BEGIN:VCALENDAR
VERSION:2.0
BEGIN:VEVENT
SUMMARY:Pozvánka: Café Evropa online: Spolupráce EU – Afrika: jak se vyvíjí pozice Evropy na africkém kontinentě?
DESCRIPTION:Institut pro evropskou politiku EUROPEUM Vás srdečně zve na další debatu ze série Café Evropa online, tentokrát na téma vztahů mezi EU a Afrikou. Debatu organizuje Evropská komise v ČR a Institut EUROPEUM ve spolupráci s Europe Direct Česká Republika a Eurocentrem Praha. Mediálním partnerem debaty je Deník.cz. Debata se uskuteční ve čtvrtek 20. května od 17:30 na Facebooku Café Evropy.
DTSTART:20210520T153000Z
DTEND:20210520T170000Z
END:VEVENT
END:VCALENDAR
