BEGIN:VCALENDAR
VERSION:2.0
BEGIN:VEVENT
SUMMARY:INVITATION: Strengthening the transatlantic relationship in response to geopolitical challengers - Russia and China
DESCRIPTION:We invite you to an online debate organised by EUROPEUM Institute for European Policy as a part of Transatlantic Policy Forum (TAPF) and with support of International Visegrad Fund. The debate will take place online on June 7 from 17:30 on our Facebook.
DTSTART:20210526T093000Z
DTEND:20210526T110000Z
END:VEVENT
END:VCALENDAR
