BEGIN:VCALENDAR
VERSION:2.0
BEGIN:VEVENT
SUMMARY:POZVÁNKA: Prague Climate Talks: COP26: Co můžeme očekávat?
DESCRIPTION:Rádi bychom Vás pozvali na debatu Prague Climate Talks, kterou organizuje Institut pro evropskou politiku EUROPEUM spolu s Heinrich-Böll-Stiftung Prague a pod záštitou OSN Česká republika. Mediálním partnerem projektu je Deník N. V úterý 5. října se zaměříme na téma COP26: Co můžeme očekávat? Událost proběhne od 17:00 do 18:30 hodin online na našem Facebooku.
DTSTART:20211005T150000Z
DTEND:20211005T163000Z
END:VEVENT
END:VCALENDAR
