BEGIN:VCALENDAR
VERSION:2.0
BEGIN:VEVENT
SUMMARY:POZVÁNKA: České předsednictví v Radě EU – jaké doprovodné a propagační akce se chystají?
DESCRIPTION:Zveme Vás na debatu s názvem "České předsednictví v Radě EU – jaké doprovodné a propagační akce se chystají?" Debata proběhne ve čtvrtek 2. prosince v 17:30.
DTSTART:20211202T163000Z
DTEND:20211202T180000Z
END:VEVENT
END:VCALENDAR
