BEGIN:VCALENDAR
VERSION:2.0
BEGIN:VEVENT
SUMMARY:POZVÁNKA: EU-Pacific Talks: U.S. - Japan relations - new leaders, new chance to restore the old relationship
DESCRIPTION:Dovolujeme si vás pozvat na v pořadí již pátou debatu ze série EU-Pacific s názvem „U.S. - Japan relations - new leaders, new chance to restore the old relationship“ Debata se uskuteční online 15. února a bude vysílána na naší facebookové stránce.
DTSTART:20220215T083000Z
DTEND:20220215T100000Z
END:VEVENT
END:VCALENDAR
