BEGIN:VCALENDAR
VERSION:2.0
BEGIN:VEVENT
SUMMARY:POZVÁNKA: Důsledky ruské invaze na Ukrajinu pro západní Balkán: Výzvy a možnosti pro české předsednictví
DESCRIPTION:Institut pro evropskou politiku EUROPEUM, Politické poradenství pro Balkán v Evropě (BiEPAG) a Evropský fond pro Balkán (EFB) vás zvou na veřejnou konferenci o Balkánu a jeho politice na akci s názvem: Důsledky ruské invaze na Ukrajinu pro západní Balkán: Výzvy a možnosti pro české předsednictví. Debata se uskuteční 11. května 2022 od 18:30 v Impact Hub K10, Koperníkova 10, Praha 2 - Vinohrady, 120 00.
DTSTART:20220422T111000Z
DTEND:20220422T124000Z
END:VEVENT
END:VCALENDAR
