BEGIN:VCALENDAR
VERSION:2.0
BEGIN:VEVENT
SUMMARY:POZVÁNKA | Café Evropa online: Dodávky a zásoby plynu pro Evropu – budeme mít v zimě čím topit?
DESCRIPTION:Zveme vás na online debatu v rámci cyklu Café Evropa, tentokrát na téma: "Dodávky a zásoby plynu pro Evropu – budeme mít v zimě čím topit?"
Debata se bude konat ve čtvrtek 22.9. v 18:00 online na naší Facebookové stránce.
DTSTART:20220922T160000Z
DTEND:20220922T173000Z
END:VEVENT
END:VCALENDAR
