BEGIN:VCALENDAR
VERSION:2.0
BEGIN:VEVENT
SUMMARY:POZVÁNKA: Hospoda Evropa: Stavte se na jedno! Řeč bude o Evropě, jak ji vidíte vy.
DESCRIPTION:Srdečně Vás zveme na neformální debatu u piva. Řeč bude o Evropě, jak ji vidíte vy. Debata se bude konat osobně v Kytíně. První rundu platíme my!
DTSTART:20221103T132500Z
DTEND:20221103T145500Z
END:VEVENT
END:VCALENDAR
